BEGIN:VCALENDAR
VERSION:2.0
PRODID:-//eventon.com NONSGML v1.0//EN
CALSCALE:GREGORIAN
METHOD:PUBLISH
BEGIN:VEVENT
UID:69e71361c037a
DTSTAMP:20260421T060417Z
DTSTART:20241012T000000Z
DTEND:20241012T035900Z
LOCATION:https://www.youtube.com/c/AstroWorldTV
SUMMARY:Beginner Astrophotography TIPS on AstroWorld TV...LIVE!
DESCRIPTION:Beginner Astrophotography TIPS on AstroWorld TV...LIVE!\nhttps:
 //astroworldweb.com/events/astroworld-tv-3/var/event_access
URL:https://astroworldweb.com/events/astroworld-tv-3/var/event_access
END:VEVENT
END:VCALENDAR